BEGIN:VCALENDAR
VERSION:2.0
PRODID:-//BATUCADA DJALICO&#039;SAMB - ECPv6.15.20//NONSGML v1.0//EN
CALSCALE:GREGORIAN
METHOD:PUBLISH
X-ORIGINAL-URL:https://www.djalicosamb.fr
X-WR-CALDESC:Évènements pour BATUCADA DJALICO&#039;SAMB
REFRESH-INTERVAL;VALUE=DURATION:PT1H
X-Robots-Tag:noindex
X-PUBLISHED-TTL:PT1H
BEGIN:VTIMEZONE
TZID:Europe/Paris
BEGIN:DAYLIGHT
TZOFFSETFROM:+0100
TZOFFSETTO:+0200
TZNAME:CEST
DTSTART:20180325T010000
END:DAYLIGHT
BEGIN:STANDARD
TZOFFSETFROM:+0200
TZOFFSETTO:+0100
TZNAME:CET
DTSTART:20181028T010000
END:STANDARD
BEGIN:DAYLIGHT
TZOFFSETFROM:+0100
TZOFFSETTO:+0200
TZNAME:CEST
DTSTART:20190331T010000
END:DAYLIGHT
BEGIN:STANDARD
TZOFFSETFROM:+0200
TZOFFSETTO:+0100
TZNAME:CET
DTSTART:20191027T010000
END:STANDARD
BEGIN:DAYLIGHT
TZOFFSETFROM:+0100
TZOFFSETTO:+0200
TZNAME:CEST
DTSTART:20200329T010000
END:DAYLIGHT
BEGIN:STANDARD
TZOFFSETFROM:+0200
TZOFFSETTO:+0100
TZNAME:CET
DTSTART:20201025T010000
END:STANDARD
END:VTIMEZONE
BEGIN:VEVENT
DTSTART;TZID=Europe/Paris:20190818T150000
DTEND;TZID=Europe/Paris:20190818T170000
DTSTAMP:20260422T004052
CREATED:20190611T201837Z
LAST-MODIFIED:20190711T142141Z
UID:440-1566140400-1566147600@www.djalicosamb.fr
SUMMARY:Parades Marseillaise
DESCRIPTION:
URL:https://www.djalicosamb.fr/evenement/parades-marseille/
LOCATION:Marseille\, Marseille\, France
CATEGORIES:Déambulation,Parade
ATTACH;FMTTYPE=image/jpeg:https://www.djalicosamb.fr/wp-content/uploads/2019/05/djalicoSamb09.jpg
END:VEVENT
END:VCALENDAR