BEGIN:VCALENDAR
VERSION:2.0
PRODID:-//BATUCADA DJALICO&#039;SAMB - ECPv6.15.20//NONSGML v1.0//EN
CALSCALE:GREGORIAN
METHOD:PUBLISH
X-WR-CALNAME:BATUCADA DJALICO&#039;SAMB
X-ORIGINAL-URL:https://www.djalicosamb.fr
X-WR-CALDESC:Évènements pour BATUCADA DJALICO&#039;SAMB
REFRESH-INTERVAL;VALUE=DURATION:PT1H
X-Robots-Tag:noindex
X-PUBLISHED-TTL:PT1H
BEGIN:VTIMEZONE
TZID:Europe/Paris
BEGIN:DAYLIGHT
TZOFFSETFROM:+0100
TZOFFSETTO:+0200
TZNAME:CEST
DTSTART:20190331T010000
END:DAYLIGHT
BEGIN:STANDARD
TZOFFSETFROM:+0200
TZOFFSETTO:+0100
TZNAME:CET
DTSTART:20191027T010000
END:STANDARD
BEGIN:DAYLIGHT
TZOFFSETFROM:+0100
TZOFFSETTO:+0200
TZNAME:CEST
DTSTART:20200329T010000
END:DAYLIGHT
BEGIN:STANDARD
TZOFFSETFROM:+0200
TZOFFSETTO:+0100
TZNAME:CET
DTSTART:20201025T010000
END:STANDARD
BEGIN:DAYLIGHT
TZOFFSETFROM:+0100
TZOFFSETTO:+0200
TZNAME:CEST
DTSTART:20210328T010000
END:DAYLIGHT
BEGIN:STANDARD
TZOFFSETFROM:+0200
TZOFFSETTO:+0100
TZNAME:CET
DTSTART:20211031T010000
END:STANDARD
END:VTIMEZONE
BEGIN:VEVENT
DTSTART;TZID=Europe/Paris:20200314T140000
DTEND;TZID=Europe/Paris:20200314T170000
DTSTAMP:20260421T114131
CREATED:20200302T163923Z
LAST-MODIFIED:20200303T185607Z
UID:771-1584194400-1584205200@www.djalicosamb.fr
SUMMARY:Marche pour le Climat Valence
DESCRIPTION:
URL:https://www.djalicosamb.fr/evenement/marche-pour-le-climat-valence/
LOCATION:champ de mars valence
CATEGORIES:Animation de rue,Déambulation,MANIFESTATION,Parade
ATTACH;FMTTYPE=image/jpeg:https://www.djalicosamb.fr/wp-content/uploads/2020/03/IMG_5628.jpg
ORGANIZER;CN="Alternatiba":MAILTO:alternatibavalenceandco@lilo.org
END:VEVENT
END:VCALENDAR