BEGIN:VCALENDAR
VERSION:2.0
PRODID:-//BATUCADA DJALICO&#039;SAMB - ECPv6.15.20//NONSGML v1.0//EN
CALSCALE:GREGORIAN
METHOD:PUBLISH
X-ORIGINAL-URL:https://www.djalicosamb.fr
X-WR-CALDESC:Évènements pour BATUCADA DJALICO&#039;SAMB
REFRESH-INTERVAL;VALUE=DURATION:PT1H
X-Robots-Tag:noindex
X-PUBLISHED-TTL:PT1H
BEGIN:VTIMEZONE
TZID:Europe/Paris
BEGIN:DAYLIGHT
TZOFFSETFROM:+0100
TZOFFSETTO:+0200
TZNAME:CEST
DTSTART:20180325T010000
END:DAYLIGHT
BEGIN:STANDARD
TZOFFSETFROM:+0200
TZOFFSETTO:+0100
TZNAME:CET
DTSTART:20181028T010000
END:STANDARD
BEGIN:DAYLIGHT
TZOFFSETFROM:+0100
TZOFFSETTO:+0200
TZNAME:CEST
DTSTART:20190331T010000
END:DAYLIGHT
BEGIN:STANDARD
TZOFFSETFROM:+0200
TZOFFSETTO:+0100
TZNAME:CET
DTSTART:20191027T010000
END:STANDARD
BEGIN:DAYLIGHT
TZOFFSETFROM:+0100
TZOFFSETTO:+0200
TZNAME:CEST
DTSTART:20200329T010000
END:DAYLIGHT
BEGIN:STANDARD
TZOFFSETFROM:+0200
TZOFFSETTO:+0100
TZNAME:CET
DTSTART:20201025T010000
END:STANDARD
END:VTIMEZONE
BEGIN:VEVENT
DTSTART;TZID=Europe/Paris:20190907T090000
DTEND;TZID=Europe/Paris:20190907T170000
DTSTAMP:20260422T004241
CREATED:20190905T213636Z
LAST-MODIFIED:20190905T215753Z
UID:599-1567846800-1567875600@www.djalicosamb.fr
SUMMARY:Journée des Associations La Voutle-sur-Rhône
DESCRIPTION:
URL:https://www.djalicosamb.fr/evenement/journee-des-associations-la-voutle-sur-rhone/
LOCATION:Salle des fêtes La Voulte\, 7 Rue René Cassin\, La Voulte-sur-Rhône\, 07800\, France
CATEGORIES:Animation de rue,Atelier,Déambulation,Parade
ATTACH;FMTTYPE=image/jpeg:https://www.djalicosamb.fr/wp-content/uploads/2019/09/forum-lv.jpg
END:VEVENT
BEGIN:VEVENT
DTSTART;TZID=Europe/Paris:20190907T103000
DTEND;TZID=Europe/Paris:20190907T170000
DTSTAMP:20260422T004241
CREATED:20190905T215458Z
LAST-MODIFIED:20190905T215459Z
UID:604-1567852200-1567875600@www.djalicosamb.fr
SUMMARY:Forum des Associations Privas
DESCRIPTION:
URL:https://www.djalicosamb.fr/evenement/forum-des-associations-privas/
LOCATION:Gymnase de Tauléac\, Gymnase de Tauléac\, Privas\, 07006\, France
CATEGORIES:Animation de rue,Atelier,Déambulation,Parade
ATTACH;FMTTYPE=image/jpeg:https://www.djalicosamb.fr/wp-content/uploads/2019/09/forum-privas.jpg
END:VEVENT
END:VCALENDAR