BEGIN:VCALENDAR
VERSION:2.0
PRODID:-//BATUCADA DJALICO&#039;SAMB - ECPv6.15.20//NONSGML v1.0//EN
CALSCALE:GREGORIAN
METHOD:PUBLISH
X-ORIGINAL-URL:https://www.djalicosamb.fr
X-WR-CALDESC:Évènements pour BATUCADA DJALICO&#039;SAMB
REFRESH-INTERVAL;VALUE=DURATION:PT1H
X-Robots-Tag:noindex
X-PUBLISHED-TTL:PT1H
BEGIN:VTIMEZONE
TZID:Europe/Paris
BEGIN:DAYLIGHT
TZOFFSETFROM:+0100
TZOFFSETTO:+0200
TZNAME:CEST
DTSTART:20230326T010000
END:DAYLIGHT
BEGIN:STANDARD
TZOFFSETFROM:+0200
TZOFFSETTO:+0100
TZNAME:CET
DTSTART:20231029T010000
END:STANDARD
BEGIN:DAYLIGHT
TZOFFSETFROM:+0100
TZOFFSETTO:+0200
TZNAME:CEST
DTSTART:20240331T010000
END:DAYLIGHT
BEGIN:STANDARD
TZOFFSETFROM:+0200
TZOFFSETTO:+0100
TZNAME:CET
DTSTART:20241027T010000
END:STANDARD
BEGIN:DAYLIGHT
TZOFFSETFROM:+0100
TZOFFSETTO:+0200
TZNAME:CEST
DTSTART:20250330T010000
END:DAYLIGHT
BEGIN:STANDARD
TZOFFSETFROM:+0200
TZOFFSETTO:+0100
TZNAME:CET
DTSTART:20251026T010000
END:STANDARD
BEGIN:DAYLIGHT
TZOFFSETFROM:+0100
TZOFFSETTO:+0200
TZNAME:CEST
DTSTART:20260329T010000
END:DAYLIGHT
BEGIN:STANDARD
TZOFFSETFROM:+0200
TZOFFSETTO:+0100
TZNAME:CET
DTSTART:20261025T010000
END:STANDARD
END:VTIMEZONE
BEGIN:VEVENT
DTSTART;TZID=Europe/Paris:20251122T150000
DTEND;TZID=Europe/Paris:20251122T213000
DTSTAMP:20260420T113246
CREATED:20251117T111652Z
LAST-MODIFIED:20251117T115438Z
UID:2761-1763823600-1763847000@www.djalicosamb.fr
SUMMARY:Marché de Noël à Saulce-sur-Rhône
DESCRIPTION:🎄 Djalico au marché de Noël de Saulce-sur-Rhône\, avec l’ASCSE* ! 🎶 \nCe 22 novembre\, Djalico va apporter chaleur fête au cœur du marché ! Entre rythmes entraînants et esprit de partage\, nous serons là pour accompagner votre visite et faire résonner la magie de Noël avec nos tambours. \nVenez nombreux partager ce moment musical et convivial ! 🥁✨ \nOrganisé par *l’association sportive et culturelle de Saulce et environs en partenariat avec la Mairie de Saulce-sur-Rhône. 
URL:https://www.djalicosamb.fr/evenement/2761/
LOCATION:Saulce-sur-Rhône\, Saulce-sur-Rhône\, 26270\, France
CATEGORIES:Animation de rue,Spectacle de rue
ATTACH;FMTTYPE=image/jpeg:https://www.djalicosamb.fr/wp-content/uploads/2025/11/IMG-20250926-WA00233.jpg
END:VEVENT
BEGIN:VEVENT
DTSTART;TZID=Europe/Paris:20251018T173000
DTEND;TZID=Europe/Paris:20251018T235500
DTSTAMP:20260420T113246
CREATED:20250923T095449Z
LAST-MODIFIED:20250923T095449Z
UID:2729-1760808600-1760831700@www.djalicosamb.fr
SUMMARY:Les Castagnade (fête de la châtaigne) de Privas !
DESCRIPTION:Par les Monts d’Ardèche : En 2025\, les Castagnades se prennent au jeu. Alors vous aussi\, venez faire une partie de Châtaigne express et devenez maître castanéiculteur ou participez à Casta\, la quête de la châtaigne perdue… Entrez dans l’esprit du jeu coopératif\, l’aventure vous attend au coin de la rue.
URL:https://www.djalicosamb.fr/evenement/les-castagnade-fete-de-la-chataigne-de-privas/
LOCATION:Privas\, Privas\, 07000\, France
CATEGORIES:Animation de rue,Spectacle de rue
ATTACH;FMTTYPE=image/jpeg:https://www.djalicosamb.fr/wp-content/uploads/2025/09/IMG-20250922-WA0003.jpg
END:VEVENT
BEGIN:VEVENT
DTSTART;VALUE=DATE:20251004
DTEND;VALUE=DATE:20251005
DTSTAMP:20260420T113246
CREATED:20250923T094119Z
LAST-MODIFIED:20250924T071107Z
UID:2721-1759536000-1759622399@www.djalicosamb.fr
SUMMARY:🎭 Théâtre de Privas : Journée festive de lancement de saison ! 🎊
DESCRIPTION:Par le Théâtre de Privas :  \n« Venez fêter avec nous l’ouverture de la saison 25/26 du Théâtre de Privas. Pour cette journée spéciale\, nous avons le plaisir de nous associer au Festival Images et Paroles d’Afrique.\nAu programme : inauguration\, vernissage et concert ! »
URL:https://www.djalicosamb.fr/evenement/theatre-de-privas-journee-festive-de-lancement-de-saison/
LOCATION:Théâtre de Privas\, Place André Malraux\, Privas\, 07000\, France
CATEGORIES:Animation de rue,Spectacle de rue
ATTACH;FMTTYPE=image/jpeg:https://www.djalicosamb.fr/wp-content/uploads/2025/09/IMG-20250908-WA0023-1-e1758620458666.jpg
END:VEVENT
BEGIN:VEVENT
DTSTART;TZID=Europe/Paris:20250927T140000
DTEND;TZID=Europe/Paris:20250927T180000
DTSTAMP:20260420T113246
CREATED:20250909T130648Z
LAST-MODIFIED:20250923T092549Z
UID:2649-1758981600-1758996000@www.djalicosamb.fr
SUMMARY:🎉 Fête des familles - Saint-Lager-Bressac 🎊
DESCRIPTION:🎊 Ambiance festive garantie ! Djalico viendra faire vibrer les rues au rythme de ses percussions endiablées 🥁🔥 \n🎶 Venez danser\, taper des mains\, et partager un moment convivial en famille\, entre amis\, petits et grands réunis !
URL:https://www.djalicosamb.fr/evenement/%f0%9f%8e%89-fete-des-familles-saint-lager-bressac-%f0%9f%8e%8a/
LOCATION:Saint-Lager-Bressac\, La Civelle\, 07210 Saint-Lager-Bressac\, Saint-Lager-Bressac\, 07210\, France
CATEGORIES:Animation de rue,Déambulation,Parade
ATTACH;FMTTYPE=image/jpeg:https://www.djalicosamb.fr/wp-content/uploads/2025/09/FB_IMG_1757273428591.jpg
END:VEVENT
BEGIN:VEVENT
DTSTART;TZID=Europe/Paris:20250926T190000
DTEND;TZID=Europe/Paris:20250926T235500
DTSTAMP:20260420T113246
CREATED:20250923T091809Z
LAST-MODIFIED:20250923T092404Z
UID:2711-1758913200-1758930900@www.djalicosamb.fr
SUMMARY:🔥 Feux d'automne 🍁🍂
DESCRIPTION:Par l’association citoyenne : Le Rebond \nLe jugement de la tarasque et sa destruction par les flammes…\nLe monstre a été capturé dans la Drôme et son exécution sera publique en bord de Drôme le 26 septembre à Crest.\nUn moment de fête et de partage populaire et joyeux sur le thème de l’eau… et des poissons lumineux plus ou moins inquiétant qui la peuple.\nVenez participer à la descente aux flambeaux depuis le parvis de l’ancien hôpital. Une déambulation dans le vieux Crest au son de la batucada Djalico’Samb.\nLes clowns de l’Atelier de Zita animeront et accompagneront le cortège jusqu’au bord de la Drôme où vous attendrons une soupe au pistou\, des desserts et des boissons pour vous requinquer.\nLà se déroulera le procès de sa grande et belle marionnette de la Tarasque.\nUne belle fête pour fêter la fin de l’été et mettre le feu… en musique au bords de Drôme avec le Brassband La Clique que vous avez peut-être déjà entendu à la fête de musique à Crest !
URL:https://www.djalicosamb.fr/evenement/feux-dautomne/
LOCATION:Crest\, Crest\, 26400\, France
CATEGORIES:Animation de rue,Déambulation,Parade,Spectacle de rue
ATTACH;FMTTYPE=image/jpeg:https://www.djalicosamb.fr/wp-content/uploads/2025/08/Feux-d_automne-2024-2.jpg
END:VEVENT
BEGIN:VEVENT
DTSTART;TZID=Europe/Paris:20250907T133000
DTEND;TZID=Europe/Paris:20250907T183000
DTSTAMP:20260420T113246
CREATED:20250830T154839Z
LAST-MODIFIED:20250830T154839Z
UID:2622-1757251800-1757269800@www.djalicosamb.fr
SUMMARY:Fête des vins\, Saint-Peray
DESCRIPTION:Djalico va faire monter la température à la fête des vins et du jumelage de Saint-Peray ! \n\n\nVenez danser aux sons des tambours \n\n\nOn a hâte de vous retrouver !
URL:https://www.djalicosamb.fr/evenement/fete-des-vins-saint-peray/
LOCATION:St Péray\, 07130\, France
CATEGORIES:Animation de rue,Déambulation,Parade,Spectacle de rue
ATTACH;FMTTYPE=image/jpeg:https://www.djalicosamb.fr/wp-content/uploads/2024/03/IMG_1308.jpeg
END:VEVENT
BEGIN:VEVENT
DTSTART;TZID=Europe/Paris:20250717T180000
DTEND;TZID=Europe/Paris:20250720T220000
DTSTAMP:20260420T113246
CREATED:20250717T125904Z
LAST-MODIFIED:20250717T130142Z
UID:2548-1752775200-1753048800@www.djalicosamb.fr
SUMMARY:Djalico-nomade\, le retour ! 🎉
DESCRIPTION:🥳 Djalico ressort en mode « mini-show » pour vous faire des petites surprises sur des évènements en Drôme ce jeudi 17 juillet ! 🎉 \nA l’honneur\, un nouveau lieu de répétition qui ouvre à la rentrée 2025 : Saulce-sur-Rhône\, où on vous accueillera à bras ouverts ! \n💛 N’hésitez pas à venir à nous 💙
URL:https://www.djalicosamb.fr/evenement/djalico-nomade-le-retour-%f0%9f%8e%89/
CATEGORIES:Animation de rue
END:VEVENT
BEGIN:VEVENT
DTSTART;TZID=Europe/Paris:20250709T193000
DTEND;TZID=Europe/Paris:20250709T223000
DTSTAMP:20260420T113246
CREATED:20250707T101745Z
LAST-MODIFIED:20250909T091545Z
UID:2535-1752089400-1752100200@www.djalicosamb.fr
SUMMARY:Soirée guinguette avec Ardé'jeux ! ✨
DESCRIPTION:📣 Ce mercredi 9 juillet\, il est enfin temps de revenir vous amuser avec nous !!! \nAprès plusieurs évènements privés\, nous serons de nouveau bien visibles\, prêts à vous faire danser 🥁🎉 ! \nDjalico’Samb animera la soirée guinguette organisée par la ludothèque itinérante « Ardé’jeux » 🤩 \nN’hésitez pas à venir à nous\, on adore se faire de nouveau djalicopains !
URL:https://www.djalicosamb.fr/evenement/soiree-guinguette-avec-ardejeux-%e2%9c%a8/
LOCATION:Privas Lancelot\, Place de la Fontaine\, Privas\, 07000\, France
CATEGORIES:Animation de rue
END:VEVENT
BEGIN:VEVENT
DTSTART;TZID=Europe/Paris:20250625T170000
DTEND;TZID=Europe/Paris:20250625T173000
DTSTAMP:20260420T113246
CREATED:20250523T134941Z
LAST-MODIFIED:20250523T150922Z
UID:2516-1750870800-1750872600@www.djalicosamb.fr
SUMMARY:🎈 Mini-show avec la MJC de La Voulte\, mercredi 25 juin 2025 ✨
DESCRIPTION:C’est\, comme toujours avec joie\, qu’une petite délégation de Djalico’Samb viendra animer l’atelier de rue d’une MJC qu’on connait bien !
URL:https://www.djalicosamb.fr/evenement/%f0%9f%8e%89-mini-show-avec-la-mjc-de-la-voulte-mercredi-25-juin-2025-%f0%9f%8e%89/
LOCATION:La Voulte\, Place du Marché\, La Voulte-sur-Rhône\, 07800\, France
CATEGORIES:Animation de rue
END:VEVENT
BEGIN:VEVENT
DTSTART;TZID=Europe/Paris:20250618T153000
DTEND;TZID=Europe/Paris:20250625T173000
DTSTAMP:20260420T113246
CREATED:20250523T132942Z
LAST-MODIFIED:20250618T162748Z
UID:2512-1750260600-1750872600@www.djalicosamb.fr
SUMMARY:🥳 18 juin 2025 au Château de Montéléger 🎉(privé)
DESCRIPTION:🥁 Vous avez aimé ?\nNous oui ! 🎶 Merci pour vos sourires 😍 !!! \nPour garder des traces de ce bon moment\, Djalico’Samb 🥁 récolte vos + belles photos 📸 ! \nC’est par ici 👉🏼 https://photos.app.goo.gl/9kGdPCvCL9teQo3p9 \n💛 MERCIIIIIII ! 🩵\n \n  \nHolà !  \nDjalico’Samb animera une fête familiale au Château de Montéléger mercredi 18 juin 25.  \nNous vous partageons notre joie et notre planning\, cette fois-ci ce ne sera pas ouvert au public\, ce n’est que « party remise » !  \nComptez sur nous pour vous tenir au courant de nos projets ! 
URL:https://www.djalicosamb.fr/evenement/18-juin-2025-au-chateau-de-monteleger/
LOCATION:Montéléger\, Montéléger\, 26760\, France
CATEGORIES:Évènement privé
END:VEVENT
BEGIN:VEVENT
DTSTART;TZID=Europe/Paris:20250518T133000
DTEND;TZID=Europe/Paris:20250518T173000
DTSTAMP:20260420T113246
CREATED:20250516T161503Z
LAST-MODIFIED:20250707T092628Z
UID:2492-1747575000-1747589400@www.djalicosamb.fr
SUMMARY:Djalico nomade ce dimanche 18 mai !
DESCRIPTION:  \n🥁 Djalico fera son mini-show\, des démos sur des événements en Drôme ce dimanche ! 🥁 \n👉🏼 13h30\, Place de l’Eglise à Loriol : ouverture de l’après-midi du Festival « Place à l’Art »\, par la Compagnie « Et Pour Temps » : \nhttps://www.facebook.com/share/1AN8ypZqod/ \n \n👉🏼 Vous pourrez ensuite nous voir et surtout nous entendre au Marché des créateurs organisé par « Orcavou »\, place Camille Debard à La Voulte : \nhttps://www.facebook.com/share/p/1GDDFsxXYb/ \n \n☝🏼 N’hésitez pas à venir à nous\, on adore se faire des nouveaux « Djalicopains » !!! 🥳
URL:https://www.djalicosamb.fr/evenement/demos-djalico-ce-dimanche-18-mai/
CATEGORIES:Animation de rue
END:VEVENT
BEGIN:VEVENT
DTSTART;TZID=Europe/Paris:20250517T150000
DTEND;TZID=Europe/Paris:20250517T170000
DTSTAMP:20260420T113246
CREATED:20250512T045139Z
LAST-MODIFIED:20250707T092743Z
UID:2484-1747494000-1747501200@www.djalicosamb.fr
SUMMARY:Carnaval de l'école à Baix\, 17 mai 2025
DESCRIPTION: 
URL:https://www.djalicosamb.fr/evenement/carnaval-de-lecole-a-baix/
LOCATION:Ecole de Baix\, 349 avenue des Lilas\, Baix\, France\, 07210\, France
CATEGORIES:Animation de rue,Carnaval,Déambulation
END:VEVENT
BEGIN:VEVENT
DTSTART;TZID=Europe/Paris:20250406T090000
DTEND;TZID=Europe/Paris:20250406T120000
DTSTAMP:20260420T113246
CREATED:20250222T183350Z
LAST-MODIFIED:20250301T134714Z
UID:2236-1743930000-1743940800@www.djalicosamb.fr
SUMMARY:Semi-marathon de Bourg-Lès-Valence
DESCRIPTION: 
URL:https://www.djalicosamb.fr/evenement/marathon-de-bourg-les-valence/
LOCATION:Bourg-lès-Valence\, Bourg-Lès-Valence\, 26500\, France
CATEGORIES:Animation de rue,Déambulation,Évènement Sportif,Manifestation Sportive
END:VEVENT
BEGIN:VEVENT
DTSTART;TZID=Europe/Paris:20250405T150000
DTEND;TZID=Europe/Paris:20250405T180000
DTSTAMP:20260420T113246
CREATED:20250222T175949Z
LAST-MODIFIED:20250330T175440Z
UID:2231-1743865200-1743876000@www.djalicosamb.fr
SUMMARY:Carnaval de Montélimar
DESCRIPTION: 
URL:https://www.djalicosamb.fr/evenement/carnaval-de-montelimar/
LOCATION:Montélimar\, Place de Provence\, 26200 Montélimar\, Montélimar\, France\, 26200\, France
CATEGORIES:Animation de rue,Carnaval,Déambulation,Parade,Spectacle de rue
END:VEVENT
BEGIN:VEVENT
DTSTART;TZID=Europe/Paris:20250329T163000
DTEND;TZID=Europe/Paris:20250329T183000
DTSTAMP:20260420T113246
CREATED:20250222T172937Z
LAST-MODIFIED:20250326T054254Z
UID:2222-1743265800-1743273000@www.djalicosamb.fr
SUMMARY:Carnaval de La Voulte
DESCRIPTION:
URL:https://www.djalicosamb.fr/evenement/carnaval-de-la-voulte/
LOCATION:La Voulte\, Place du Marché\, La Voulte-sur-Rhône\, 07800\, France
CATEGORIES:Carnaval,Déambulation
END:VEVENT
BEGIN:VEVENT
DTSTART;TZID=Europe/Paris:20250322T150000
DTEND;TZID=Europe/Paris:20250322T180000
DTSTAMP:20260420T113247
CREATED:20250222T100645Z
LAST-MODIFIED:20250222T173336Z
UID:2217-1742655600-1742666400@www.djalicosamb.fr
SUMMARY:Carnaval rencontre des cultures\, Livron
DESCRIPTION:Le Grand Carnaval : Le tour du monde en 80 minutes !\n\n\nA Livron\, à la confluence du Rhône et de la Drôme\, les peuples convergent pour réaffirmer que de nos rencontres et différences naissent nos richesses. Embarquons pour un voyage chatoyant ! Des rives du Gange aux plaines du far west\, tous les sens seront en effervescence. Cette année\, au cours du Carnaval\, vous pourrez faire Le Tour du Monde en 80 minutes ! \n \n 
URL:https://www.djalicosamb.fr/evenement/carnaval-rencontre-des-cultures-livron/
LOCATION:Livron-sur-Drôme\, Parc Grangeon\, Livron-sur-Drôme\, 26250\, France
CATEGORIES:Carnaval,Parade,Spectacle de rue
ATTACH;FMTTYPE=image/jpeg:https://www.djalicosamb.fr/wp-content/uploads/2025/02/Carnaval-Livron-2025_Affiche.jpeg
END:VEVENT
BEGIN:VEVENT
DTSTART;TZID=Europe/Paris:20250309T140000
DTEND;TZID=Europe/Paris:20250309T180000
DTSTAMP:20260420T113247
CREATED:20250222T093101Z
LAST-MODIFIED:20250310T224720Z
UID:2206-1741528800-1741543200@www.djalicosamb.fr
SUMMARY:Fête de la Surle
DESCRIPTION:
URL:https://www.djalicosamb.fr/evenement/fete-de-la-surle/
LOCATION:Charmes-sur-Rhône\, Mairie\, Place de Lorraine\, Charmes-sur-Rhône\, 07800\, France
CATEGORIES:Animation de rue,Déambulation,Parade,Spectacle de rue
ATTACH;FMTTYPE=image/jpeg:https://www.djalicosamb.fr/wp-content/uploads/2025/02/Petit-Surleur_couverture.jpg
END:VEVENT
BEGIN:VEVENT
DTSTART;TZID=Europe/Paris:20250307T133000
DTEND;TZID=Europe/Paris:20250307T163000
DTSTAMP:20260420T113247
CREATED:20250301T131401Z
LAST-MODIFIED:20250301T133111Z
UID:2252-1741354200-1741365000@www.djalicosamb.fr
SUMMARY:Carnaval de Saulce-sur-Rhône
DESCRIPTION:
URL:https://www.djalicosamb.fr/evenement/carnaval-de-saulce-sur-rhone/
LOCATION:Saulce-sur-Rhône\, Saulce-sur-Rhône\, 26270\, France
CATEGORIES:Animation de rue,Carnaval,Déambulation
END:VEVENT
BEGIN:VEVENT
DTSTART;TZID=Europe/Paris:20250218T163000
DTEND;TZID=Europe/Paris:20250218T183000
DTSTAMP:20260420T113247
CREATED:20250221T182231Z
LAST-MODIFIED:20250222T185056Z
UID:2191-1739896200-1739903400@www.djalicosamb.fr
SUMMARY:Carnaval Valence
DESCRIPTION:
URL:https://www.djalicosamb.fr/evenement/carnaval-valence/
LOCATION:MPT Valence centre-ville\, 23 rue Pêcherie\, Valence\, 26000\, France
CATEGORIES:Carnaval,Déambulation
ATTACH;FMTTYPE=image/jpeg:https://www.djalicosamb.fr/wp-content/uploads/2025/02/carnaval-2025-pdf.jpg
END:VEVENT
BEGIN:VEVENT
DTSTART;TZID=Europe/Paris:20240901T140000
DTEND;TZID=Europe/Paris:20240901T163000
DTSTAMP:20260420T113247
CREATED:20240327T044449Z
LAST-MODIFIED:20250220T172651Z
UID:2086-1725199200-1725208200@www.djalicosamb.fr
SUMMARY:Corso St Peray
DESCRIPTION:
URL:https://www.djalicosamb.fr/evenement/corso-st-peray/
LOCATION:St Péray\, 07130\, France
CATEGORIES:Corso,Déambulation,Parade
ATTACH;FMTTYPE=image/jpeg:https://www.djalicosamb.fr/wp-content/uploads/2022/09/E64C357A-9CA6-44AF-9CBD-FF7C3F1FD1AC-scaled.jpeg
END:VEVENT
BEGIN:VEVENT
DTSTART;TZID=Europe/Paris:20240829T200000
DTEND;TZID=Europe/Paris:20240829T210000
DTSTAMP:20260420T113247
CREATED:20240327T044821Z
LAST-MODIFIED:20240327T044821Z
UID:2088-1724961600-1724965200@www.djalicosamb.fr
SUMMARY:Fête de l’été st Julien en st Alban
DESCRIPTION:
URL:https://www.djalicosamb.fr/evenement/fete-de-lete-st-julien-en-st-alban/
LOCATION:saint-Julien en saint-Alban\, 1 Place Fernand Vinson\, Saint-Julien en saint-Alban\, 07000\, France
CATEGORIES:Concert
ATTACH;FMTTYPE=image/jpeg:https://www.djalicosamb.fr/wp-content/uploads/2023/03/A6B3A085-2FDF-410F-B354-F10109910C32-scaled.jpeg
END:VEVENT
BEGIN:VEVENT
DTSTART;TZID=Europe/Paris:20240706T183000
DTEND;TZID=Europe/Paris:20240706T200000
DTSTAMP:20260420T113247
CREATED:20240618T080036Z
LAST-MODIFIED:20240618T080036Z
UID:2112-1720290600-1720296000@www.djalicosamb.fr
SUMMARY:Fête médiévale Beauchastel
DESCRIPTION:
URL:https://www.djalicosamb.fr/evenement/fete-medievale-beauchastel/
CATEGORIES:Concert,Déambulation,Spectacle de rue
ATTACH;FMTTYPE=image/webp:https://www.djalicosamb.fr/wp-content/uploads/2024/06/IMG_2493.webp
END:VEVENT
BEGIN:VEVENT
DTSTART;TZID=Europe/Paris:20240622T180000
DTEND;TZID=Europe/Paris:20240622T210000
DTSTAMP:20260420T113247
CREATED:20240617T213233Z
LAST-MODIFIED:20240617T213233Z
UID:2107-1719079200-1719090000@www.djalicosamb.fr
SUMMARY:Fête de la musique Montélier
DESCRIPTION:
URL:https://www.djalicosamb.fr/evenement/fete-de-la-musique-montelier/
CATEGORIES:Concert,Spectacle de rue
ATTACH;FMTTYPE=image/jpeg:https://www.djalicosamb.fr/wp-content/uploads/2024/06/22.06.2024-PROGRAMME-FETE-DE-LA-MUSIQUE.jpeg
END:VEVENT
BEGIN:VEVENT
DTSTART;TZID=Europe/Paris:20240621T193000
DTEND;TZID=Europe/Paris:20240621T233000
DTSTAMP:20260420T113247
CREATED:20240327T044015Z
LAST-MODIFIED:20240618T081239Z
UID:2083-1718998200-1719012600@www.djalicosamb.fr
SUMMARY:Fête de la musique Valence 2024
DESCRIPTION:
URL:https://www.djalicosamb.fr/evenement/fete-de-la-musique-valence-2/
LOCATION:Valence\, Champ de mars\, Valence\, 26000
CATEGORIES:Déambulation,Parade
ATTACH;FMTTYPE=image/jpeg:https://www.djalicosamb.fr/wp-content/uploads/2022/09/B328573D-5E13-40C7-8096-66FA234DBAD5.jpeg
END:VEVENT
BEGIN:VEVENT
DTSTART;TZID=Europe/Paris:20240620T143000
DTEND;TZID=Europe/Paris:20240620T170000
DTSTAMP:20260420T113247
CREATED:20240419T080211Z
LAST-MODIFIED:20240617T212109Z
UID:2094-1718893800-1718902800@www.djalicosamb.fr
SUMMARY:Passage flamme olympique Hauterives
DESCRIPTION:Les enfants de Hauterives accueillent la flamme olympique au son des percussions des îles de Djalico \nSamb. \nBatucada\, danseuses et échassiers ouvrent le parcours de la flamme olympique à Hauterives dans une ambiance colorée et enlevée. \nLe tout mis en scène et dirigé par Kahtwan de Djalico \nDépart à 15h de la déambulation musicale avec les enfants le long des quais de la Galaure pour une arrivée au Palais idéal. \nEnsuite\, toute la troupe du « Bloco Djalico » se produira une nouvelle fois à 17h30 sur le parking du Palais idéal pour ouvrir les festivités de la soirée. \nSitué à Valence\, la cie Djalico’samb et Kahtwan \nCHEIKH ont été choisis par la Mairie de Hauterives et le Palais idéal pour accueillir la flamme olympique lors de sa montée dans le Palais.
URL:https://www.djalicosamb.fr/evenement/passage-flamme-olympique-hauterives/
LOCATION:Palais idéal du facteur cheval\, 8\, rue du Palais\, Hauterives\, 26390\, France
ATTACH;FMTTYPE=image/jpeg:https://www.djalicosamb.fr/wp-content/uploads/2024/04/682A11AA-DF43-4B41-90EB-A9A2991FA538.jpeg
END:VEVENT
BEGIN:VEVENT
DTSTART;TZID=Europe/Paris:20240519T150000
DTEND;TZID=Europe/Paris:20240519T170000
DTSTAMP:20260420T113247
CREATED:20240419T084349Z
LAST-MODIFIED:20240419T084349Z
UID:2099-1716130800-1716138000@www.djalicosamb.fr
SUMMARY:Corso de Clérieux
DESCRIPTION:
URL:https://www.djalicosamb.fr/evenement/corso-de-clerieux-3/
CATEGORIES:Corso,Déambulation
ATTACH;FMTTYPE=image/jpeg:https://www.djalicosamb.fr/wp-content/uploads/2019/07/P1010449.jpg
END:VEVENT
BEGIN:VEVENT
DTSTART;TZID=Europe/Paris:20240419T173000
DTEND;TZID=Europe/Paris:20240419T183000
DTSTAMP:20260420T113247
CREATED:20240419T075625Z
LAST-MODIFIED:20240419T075625Z
UID:2091-1713547800-1713551400@www.djalicosamb.fr
SUMMARY:Inauguration secours populaire du Teil
DESCRIPTION:
URL:https://www.djalicosamb.fr/evenement/inauguration-secours-populaire-du-teil/
LOCATION:Le Teil
CATEGORIES:Déambulation
ATTACH;FMTTYPE=image/jpeg:https://www.djalicosamb.fr/wp-content/uploads/2019/07/batucada-59-1.jpg
END:VEVENT
BEGIN:VEVENT
DTSTART;TZID=Europe/Paris:20240414T100000
DTEND;TZID=Europe/Paris:20240414T120000
DTSTAMP:20260420T113247
CREATED:20240219T132138Z
LAST-MODIFIED:20240219T132138Z
UID:1965-1713088800-1713096000@www.djalicosamb.fr
SUMMARY:Semi-marathon Bourg-les-Valence
DESCRIPTION:
URL:https://www.djalicosamb.fr/evenement/semi-marathon-bourg-les-valence/
CATEGORIES:Évènement Sportif,Manifestation Sportive
ATTACH;FMTTYPE=image/jpeg:https://www.djalicosamb.fr/wp-content/uploads/2024/02/IMG_0360.jpeg
END:VEVENT
BEGIN:VEVENT
DTSTART;TZID=Europe/Paris:20240406T140000
DTEND;TZID=Europe/Paris:20240406T150000
DTSTAMP:20260420T113247
CREATED:20240219T131742Z
LAST-MODIFIED:20240220T085055Z
UID:1963-1712412000-1712415600@www.djalicosamb.fr
SUMMARY:Carnaval Pouzin
DESCRIPTION:
URL:https://www.djalicosamb.fr/evenement/carnaval-pouzin/
CATEGORIES:Carnaval
ATTACH;FMTTYPE=image/jpeg:https://www.djalicosamb.fr/wp-content/uploads/2019/07/P1010449-1-e1644788646575.jpg
END:VEVENT
BEGIN:VEVENT
DTSTART;TZID=Europe/Paris:20240317T143000
DTEND;TZID=Europe/Paris:20240317T170000
DTSTAMP:20260420T113247
CREATED:20240219T131343Z
LAST-MODIFIED:20240219T131343Z
UID:1961-1710685800-1710694800@www.djalicosamb.fr
SUMMARY:Carnaval St Peray
DESCRIPTION:
URL:https://www.djalicosamb.fr/evenement/carnaval-st-peray/
CATEGORIES:Carnaval,Corso,Déambulation
ATTACH;FMTTYPE=image/jpeg:https://www.djalicosamb.fr/wp-content/uploads/2022/09/E64C357A-9CA6-44AF-9CBD-FF7C3F1FD1AC-scaled.jpeg
END:VEVENT
END:VCALENDAR